BEGIN:VCALENDAR
VERSION:2.0
PRODID:-//TYPO3/NONSGML News system (news)//EN
BEGIN:VEVENT
UID:news-2095@www.saint-brieuc.bzh
DTSTAMP:20260421T171916
DTSTART:20260513T183000
DTEND:20260513T200000
SUMMARY:À la rencontre de Marion Millo
CATEGORIES:Littérature, Société
DESCRIPTION:Rencontre proposée en partenariat avec La Marche des 
 Fiertés.
LOCATION:Bibliothèque André Malraux
END:VEVENT
END:VCALENDAR