BEGIN:VCALENDAR
VERSION:2.0
PRODID:-//TYPO3/NONSGML News system (news)//EN
BEGIN:VEVENT
UID:news-2026@www.saint-brieuc.bzh
DTSTAMP:20260305T095915
DTSTART:20260505T143000
DTEND:20260505T153000
SUMMARY:Café conso : les mutuelles
CATEGORIES:Seniors
DESCRIPTION:Une fois par mois, un temps convivial de prévention, 
 d'information et de conseils à destination des seniors pour 
 rester vigilants en terme de consommation, proposé par 
 l'ORB, Familles Rurales et le CCAS. Thème du jour : les 
 Mutuelles De 14h30 à 15h30, à la Maison du Temps libre, 6 
 bis rue Maréchal Foch. Renseignements au 02 96 33 00 94.
END:VEVENT
END:VCALENDAR