BEGIN:VCALENDAR
VERSION:2.0
PRODID:-//TYPO3/NONSGML News system (news)//EN
BEGIN:VEVENT
UID:news-2086@www.saint-brieuc.bzh
DTSTAMP:20260417T102433
DTSTART:20260628T110000
DTEND:20260628T173000
SUMMARY:Fête de la Villa Carmélie
CATEGORIES:Conservatoire, Danse, Musique, Théâtre
DESCRIPTION:Jardin & Villa Carmélie
LOCATION:Jardin de Carmelie 
END:VEVENT
END:VCALENDAR