BEGIN:VCALENDAR
VERSION:2.0
PRODID:-//TYPO3/NONSGML News system (news)//EN
BEGIN:VEVENT
UID:news-2037@www.saint-brieuc.bzh
DTSTAMP:20260312T103046
DTSTART:20260725T000000
DTEND:20260726T000000
SUMMARY:Fête du Maquereau
CATEGORIES:Animations, Musique et danse bretonne, Gastronomie, Quartiers
DESCRIPTION:Fête historique de Cesson
END:VEVENT
END:VCALENDAR