BEGIN:VCALENDAR
VERSION:2.0
PRODID:-//TYPO3/NONSGML News system (news)//EN
BEGIN:VEVENT
UID:news-2092@www.saint-brieuc.bzh
DTSTAMP:20260417T161805
DTSTART:20260429T190000
DTEND:20260429T210000
SUMMARY:Journée mondiale de la danse
CATEGORIES:Danse
DESCRIPTION:Association Le 26Bis
LOCATION:Place de la Résistance
END:VEVENT
END:VCALENDAR