BEGIN:VCALENDAR
VERSION:2.0
PRODID:-//TYPO3/NONSGML News system (news)//EN
BEGIN:VEVENT
UID:news-2088@www.saint-brieuc.bzh
DTSTAMP:20260417T103629
DTSTART:20260507T190000
DTEND:20260507T190000
SUMMARY:La filière voix en lumière
CATEGORIES:
DESCRIPTION:Concert
LOCATION:Conservatoire de musique de danse et d'art dramatique - Villa Carmélie
END:VEVENT
END:VCALENDAR