BEGIN:VCALENDAR
VERSION:2.0
PRODID:-//TYPO3/NONSGML News system (news)//EN
BEGIN:VEVENT
UID:news-2085@www.saint-brieuc.bzh
DTSTAMP:20260417T101834
DTSTART:20260617T000000
DTEND:20260621T000000
SUMMARY:Le conservatoire fête la musique
CATEGORIES:Conservatoire, Musique
DESCRIPTION:  Les orchestres griffons fêtent la musique Mercredi 17 
 juin, 15h Villa Carmélie dans le&nbsp;cloître   Fête 
 de la musique - Orchestres, ensembles et choeurs du 
 conservatoire Dimanche 21 juin Villa Carmélie et 
 centre-ville  
LOCATION:Conservatoire de musique de danse et d'art dramatique - Villa Carmélie
END:VEVENT
END:VCALENDAR