BEGIN:VCALENDAR
VERSION:2.0
PRODID:-//TYPO3/NONSGML News system (news)//EN
BEGIN:VEVENT
UID:news-2032@www.saint-brieuc.bzh
DTSTAMP:20260306T161759
DTSTART:20260613T140000
DTEND:20260613T140000
SUMMARY:Marche des fiertés
CATEGORIES:Social, Société, Solidarité
DESCRIPTION:La Marche des Fiertés de Saint-Brieuc revient ! Rendez-vous 
 le 13 juin pour danser, défiler et lutter pour les droits 
 des personnes LGBTQIA+
LOCATION:Parc des Promenades 
END:VEVENT
END:VCALENDAR