BEGIN:VCALENDAR
VERSION:2.0
PRODID:-//TYPO3/NONSGML News system (news)//EN
BEGIN:VEVENT
UID:news-2042@www.saint-brieuc.bzh
DTSTAMP:20260312T161409
DTSTART:20260509T083000
DTEND:20260510T180000
SUMMARY:Open de Printemps de l'Échiquier Briochin
CATEGORIES:Vie associative
DESCRIPTION:La Ville de Saint-Brieuc accueille l'open de printemps de 
 l'Echiquier Briochin. 
LOCATION:Petite salle de Robien
END:VEVENT
END:VCALENDAR