BEGIN:VCALENDAR
VERSION:2.0
PRODID:-//TYPO3/NONSGML News system (news)//EN
BEGIN:VEVENT
UID:news-2089@www.saint-brieuc.bzh
DTSTAMP:20260417T112304
DTSTART:20260502T153000
DTEND:20260502T153000
SUMMARY:Restitution atelier guitare avec Paul Manœuvrier
CATEGORIES:Conservatoire, Musique
DESCRIPTION:Concert de restitution de l'atelier mené par Paul 
 Manœuvrier, guitariste et compositeur et lauréat en 2015 
 du diplôme national supérieur professionnel de musicien en 
 guitare classique. Gratuit et dans la limite des places 
 disponibles. Villa Carmélie, dans la salle d'orchestre.
LOCATION:Conservatoire de musique de danse et d'art dramatique - Villa Carmélie
END:VEVENT
END:VCALENDAR