BEGIN:VCALENDAR
VERSION:2.0
PRODID:-//TYPO3/NONSGML News system (news)//EN
BEGIN:VEVENT
UID:news-2094@www.saint-brieuc.bzh
DTSTAMP:20260421T165158
DTSTART:20260516T153000
DTEND:20260516T164500
SUMMARY:Sourcellerie : concert-causerie
CATEGORIES:Bibliothèques, Musique et danse bretonne
DESCRIPTION:Concert-causerie proposé dans le cadre de la Fête de la 
 Bretagne.
LOCATION:Bibliothèque André Malraux
END:VEVENT
END:VCALENDAR