BEGIN:VCALENDAR
VERSION:2.0
PRODID:-//TYPO3/NONSGML News system (news)//EN
BEGIN:VEVENT
UID:news-2084@www.saint-brieuc.bzh
DTSTAMP:20260417T100726
DTSTART:20260627T200000
DTEND:20260627T200000
SUMMARY:Terra mater
CATEGORIES:Conservatoire, Danse
DESCRIPTION:Ode chorégraphique
LOCATION:La Passerelle, scène nationale de Saint-Brieuc
END:VEVENT
END:VCALENDAR