BEGIN:VCALENDAR
VERSION:2.0
PRODID:-//TYPO3/NONSGML News system (news)//EN
BEGIN:VEVENT
UID:news-1569@www.saint-brieuc.bzh
DTSTAMP:20260312T151453
DTSTART:20260501T000000
DTEND:20260503T000000
SUMMARY:Tournoi du Griffon #4
CATEGORIES:Sports, Vie associative
DESCRIPTION:Les 1, 2 et 3 mai, l'amicale Laïque Badminton Club Briochin 
 organise le tournoi National du Griffon, 4ème édition. Ce 
 tournoi est devenu un incontournable pour les badistes, 
 classé parmi les plus importants tournois de France.
END:VEVENT
END:VCALENDAR